BEGIN:VCALENDAR
VERSION:2.0
PRODID:SchoolNow
CALSCALE:GREGORIAN
BEGIN:VEVENT
UID:a1ef3156-4df3-11ef-a548-0ebd24e438b1
DTSTAMP:20240729T214346Z
SUMMARY:Labor Day BBQ - September 2nd
URL;VALUE=URI:https://www.wildernesslakecdd.org/calendar/6325854/labor-day-
 bbq-september-2nd
DTSTART:20240902T160000Z
DTEND:20240902T180000Z
END:VEVENT
END:VCALENDAR
