BEGIN:VCALENDAR
VERSION:2.0
PRODID:SchoolNow
CALSCALE:GREGORIAN
BEGIN:VEVENT
UID:244b7d78-46bd-11ef-934f-0eec24b05af9
DTSTAMP:20240720T172604Z
SUMMARY:Blood Drive - August 3rd
LOCATION:Lodge Parking Lot
URL;VALUE=URI:https://www.wildernesslakecdd.org/calendar/6287114/blood-driv
 e-august-3rd
DTSTART:20240802T143000Z
DTEND:20240802T193000Z
END:VEVENT
END:VCALENDAR
