BEGIN:VCALENDAR
VERSION:2.0
PRODID:SchoolNow
CALSCALE:GREGORIAN
BEGIN:VEVENT
UID:fbc34f7a-46bc-11ef-b639-0a58a9feac02
DTSTAMP:20240720T172634Z
SUMMARY:Chat'hers - Wood Crafting & Lunch - August 20th
LOCATION:Activities Center
URL;VALUE=URI:https://www.wildernesslakecdd.org/calendar/6287113/chathers-w
 ood-crafting-lunch
DTSTART:20240820T140000Z
DTEND:20240820T170000Z
END:VEVENT
END:VCALENDAR
