BEGIN:VCALENDAR
VERSION:2.0
PRODID:SchoolNow
CALSCALE:GREGORIAN
BEGIN:VEVENT
UID:73bea14a-3ef8-11ef-9b22-0ed0a03c07c9
DTSTAMP:20240710T201028Z
SUMMARY:HOA Meeting - August 27th
LOCATION:Activities Center
URL;VALUE=URI:https://www.wildernesslakecdd.org/calendar/6243594/hoa-meetin
 g-august-27th
DTSTART:20240827T223000Z
DTEND:20240828T003000Z
END:VEVENT
END:VCALENDAR
