BEGIN:VCALENDAR
VERSION:2.0
PRODID:SchoolNow
CALSCALE:GREGORIAN
BEGIN:VEVENT
UID:411b9b76-3ef8-11ef-af6b-0a58a9feac02
DTSTAMP:20240710T200903Z
SUMMARY:ARC Meeting - August 26th
LOCATION:Activities Center
URL;VALUE=URI:https://www.wildernesslakecdd.org/calendar/6243593/arc-meetin
 g-august-26th
DTSTART:20240826T223000Z
DTEND:20240826T233000Z
END:VEVENT
END:VCALENDAR
