BEGIN:VCALENDAR
VERSION:2.0
PRODID:SchoolNow
CALSCALE:GREGORIAN
BEGIN:VEVENT
UID:d1a8f508-3ee9-11ef-b072-0a58a9feac02
DTSTAMP:20240727T184117Z
SUMMARY:Grill & Chill - August 31st
LOCATION:Activities Center
URL;VALUE=URI:https://www.wildernesslakecdd.org/calendar/6242205/grill-chil
 l-august-31st
DTSTART:20240831T220000Z
DTEND:20240901T000000Z
END:VEVENT
END:VCALENDAR
