BEGIN:VCALENDAR
VERSION:2.0
PRODID:SchoolNow
CALSCALE:GREGORIAN
BEGIN:VEVENT
UID:b756914c-3ee9-11ef-9fbd-0affdebb0933
DTSTAMP:20240727T184054Z
SUMMARY:Family Bingo - August 30th
LOCATION:Activities Center
URL;VALUE=URI:https://www.wildernesslakecdd.org/calendar/6242204/worm-farms
 -dirt-dessert-august-30th
DTSTART:20240830T223000Z
DTEND:20240831T003000Z
END:VEVENT
END:VCALENDAR
