BEGIN:VCALENDAR
VERSION:2.0
PRODID:SchoolNow
CALSCALE:GREGORIAN
BEGIN:VEVENT
UID:19d0fb2e-3ee9-11ef-afcc-02bd48fb2533
DTSTAMP:20240710T182035Z
SUMMARY:Family Movie Night - August 25th
LOCATION:Theatre
URL;VALUE=URI:https://www.wildernesslakecdd.org/calendar/6242203/family-mov
 ie-night-august-25th
DTSTART:20240825T223000Z
DTEND:20240826T003000Z
END:VEVENT
END:VCALENDAR
