BEGIN:VCALENDAR
VERSION:2.0
PRODID:SchoolNow
CALSCALE:GREGORIAN
BEGIN:VEVENT
UID:d9822480-3ee8-11ef-b760-0a58a9feac02
DTSTAMP:20240710T181847Z
SUMMARY:Rock Painting - August 23rd
LOCATION:Activities Center
URL;VALUE=URI:https://www.wildernesslakecdd.org/calendar/6242200/rock-paint
 ing-august-23rd
DTSTART:20240823T220000Z
DTEND:20240823T233000Z
END:VEVENT
END:VCALENDAR
