BEGIN:VCALENDAR
VERSION:2.0
PRODID:SchoolNow
CALSCALE:GREGORIAN
BEGIN:VEVENT
UID:abe6076c-3ee8-11ef-8df4-0a58a9feac02
DTSTAMP:20240710T181730Z
SUMMARY:Freeze Pops by the Pool - August 18th
LOCATION:Poolside
URL;VALUE=URI:https://www.wildernesslakecdd.org/calendar/6242199/freeze-pop
 s-by-the-pool-august-18th
DTSTART:20240818T180000Z
DTEND:20240818T190000Z
END:VEVENT
END:VCALENDAR
