BEGIN:VCALENDAR
VERSION:2.0
PRODID:SchoolNow
CALSCALE:GREGORIAN
BEGIN:VEVENT
UID:6be31e8e-3ee8-11ef-8451-0266c0490f8d
DTSTAMP:20240727T183833Z
SUMMARY:Storytime for Tots - August 19th
LOCATION:Nature Center
URL;VALUE=URI:https://www.wildernesslakecdd.org/calendar/6242198/storytime-
 for-tots-august-19th
DTSTART:20240819T140000Z
DTEND:20240819T150000Z
END:VEVENT
END:VCALENDAR
