BEGIN:VCALENDAR
VERSION:2.0
PRODID:SchoolNow
CALSCALE:GREGORIAN
BEGIN:VEVENT
UID:478af6ce-3ee8-11ef-933e-0e79aae2087f
DTSTAMP:20240727T183925Z
SUMMARY:Storytime for Tots - August 26th
LOCATION:Nature Center
URL;VALUE=URI:https://www.wildernesslakecdd.org/calendar/6242197/storytime-
 for-tots-august-26th
DTSTART:20240826T140000Z
DTEND:20240826T150000Z
END:VEVENT
END:VCALENDAR
