BEGIN:VCALENDAR
VERSION:2.0
PRODID:SchoolNow
CALSCALE:GREGORIAN
BEGIN:VEVENT
UID:206e9668-3ee8-11ef-a097-0afff4bbac61
DTSTAMP:20240811T211329Z
SUMMARY:Storytime for Tots - August 12th
LOCATION:Nature Center
URL;VALUE=URI:https://www.wildernesslakecdd.org/calendar/6242196/storytime-
 for-tots-august-12th
DTSTART:20240812T140000Z
DTEND:20240812T150000Z
END:VEVENT
END:VCALENDAR
