BEGIN:VCALENDAR
VERSION:2.0
PRODID:SchoolNow
CALSCALE:GREGORIAN
BEGIN:VEVENT
UID:f2e5b47e-3ee7-11ef-b339-0ecd12c63423
DTSTAMP:20240710T181220Z
SUMMARY:Ladies Night - August 9th
LOCATION:Activities Center
URL;VALUE=URI:https://www.wildernesslakecdd.org/calendar/6242195/ladies-nig
 ht-august-9th
DTSTART:20240809T220000Z
DTEND:20240810T010000Z
END:VEVENT
END:VCALENDAR
