BEGIN:VCALENDAR
VERSION:2.0
PRODID:SchoolNow
CALSCALE:GREGORIAN
BEGIN:VEVENT
UID:a0ddc176-3ee7-11ef-b140-0afff4bbac61
DTSTAMP:20240710T181002Z
SUMMARY:ARC Meeting - August 12th
LOCATION:Activities Center
URL;VALUE=URI:https://www.wildernesslakecdd.org/calendar/6242194/arc-meetin
 g-august-12th
DTSTART:20240812T223000Z
DTEND:20240812T233000Z
END:VEVENT
END:VCALENDAR
