BEGIN:VCALENDAR
VERSION:2.0
PRODID:SchoolNow
CALSCALE:GREGORIAN
BEGIN:VEVENT
UID:6c841d58-3ee7-11ef-a2a1-0affdc83b94b
DTSTAMP:20240727T183553Z
SUMMARY:Storytime for Tots - August 5th
LOCATION:Nature Center
URL;VALUE=URI:https://www.wildernesslakecdd.org/calendar/6242193/storytime-
 for-tots-august-5th
DTSTART:20240805T140000Z
DTEND:20240805T150000Z
END:VEVENT
END:VCALENDAR
