BEGIN:VCALENDAR
VERSION:2.0
PRODID:SchoolNow
CALSCALE:GREGORIAN
BEGIN:VEVENT
UID:50a1bf76-3ee4-11ef-8bc3-02de16e5324b
DTSTAMP:20240710T174619Z
SUMMARY:HOA Meeting - July 23rd
LOCATION:Activities Center
URL;VALUE=URI:https://www.wildernesslakecdd.org/calendar/6242191/hoa-meetin
 g-july-23rd
DTSTART:20240723T223000Z
DTEND:20240724T003000Z
END:VEVENT
END:VCALENDAR
