BEGIN:VCALENDAR
VERSION:2.0
PRODID:SchoolNow
CALSCALE:GREGORIAN
BEGIN:VEVENT
UID:347a461a-3ee4-11ef-aebb-0e79aae2087f
DTSTAMP:20240710T174532Z
SUMMARY:ARC Meeting - July 22nd
LOCATION:Activities Center
URL;VALUE=URI:https://www.wildernesslakecdd.org/calendar/6242190/arc-meetin
 g-july-22nd
DTSTART:20240722T223000Z
DTEND:20240722T233000Z
END:VEVENT
END:VCALENDAR
