BEGIN:VCALENDAR
VERSION:2.0
PRODID:SchoolNow
CALSCALE:GREGORIAN
BEGIN:VEVENT
UID:16087f3a-3ee4-11ef-b701-0affdc83b94b
DTSTAMP:20240727T183405Z
SUMMARY:Storytime for Tots - July 29th
LOCATION:Nature Center
URL;VALUE=URI:https://www.wildernesslakecdd.org/calendar/6242189/storytime-
 for-tots-july-29th
DTSTART:20240729T140000Z
DTEND:20240729T150000Z
END:VEVENT
END:VCALENDAR
