BEGIN:VCALENDAR
VERSION:2.0
PRODID:SchoolNow
CALSCALE:GREGORIAN
BEGIN:VEVENT
UID:f2be743a-3ee3-11ef-a87e-0a58a9feac02
DTSTAMP:20240710T174342Z
SUMMARY:Storytime for Tots - July 22nd
LOCATION:Nature Center
URL;VALUE=URI:https://www.wildernesslakecdd.org/calendar/6242188/storytime-
 for-tots-july-22nd
DTSTART:20240722T140000Z
DTEND:20240722T153000Z
END:VEVENT
END:VCALENDAR
