BEGIN:VCALENDAR
VERSION:2.0
PRODID:SchoolNow
CALSCALE:GREGORIAN
BEGIN:VEVENT
UID:cba13842-3ee3-11ef-9cf4-02b839a6bc87
DTSTAMP:20240727T184525Z
SUMMARY:Storytime for Tots - July 15th
LOCATION:Nature Center
URL;VALUE=URI:https://www.wildernesslakecdd.org/calendar/6242187/storytime-
 for-tots-july-15th
DTSTART:20240715T140000Z
DTEND:20240715T150000Z
END:VEVENT
END:VCALENDAR
