BEGIN:VCALENDAR
VERSION:2.0
PRODID:SchoolNow
CALSCALE:GREGORIAN
BEGIN:VEVENT
UID:e2575000-3ee1-11ef-b15d-0a58a9feac02
DTSTAMP:20240727T183715Z
SUMMARY:Land O' Lakes Photography Club - August 6th
LOCATION:Theatere
URL;VALUE=URI:https://www.wildernesslakecdd.org/calendar/6242186/land-o-lak
 es-photography-club-august-6th
DTSTART:20240806T223000Z
DTEND:20240807T003000Z
END:VEVENT
END:VCALENDAR
