BEGIN:VCALENDAR
VERSION:2.0
PRODID:SchoolNow
CALSCALE:GREGORIAN
BEGIN:VEVENT
UID:99499a62-3ee1-11ef-b2b7-0affdc83b94b
DTSTAMP:20240710T174840Z
SUMMARY:Family Movie Night - July 21st
LOCATION:Theatre
URL;VALUE=URI:https://www.wildernesslakecdd.org/calendar/6242185/family-mov
 ie-night-july-21st
DTSTART:20240721T230000Z
DTEND:20240722T013000Z
END:VEVENT
END:VCALENDAR
