BEGIN:VCALENDAR
VERSION:2.0
PRODID:SchoolNow
CALSCALE:GREGORIAN
BEGIN:VEVENT
UID:4bf997b2-3ee1-11ef-bc18-0a58a9feac02
DTSTAMP:20240710T174827Z
SUMMARY:Family Bingo - July 20th
LOCATION:Activities Center
URL;VALUE=URI:https://www.wildernesslakecdd.org/calendar/6242184/family-bin
 go-july-20th
DTSTART:20240720T223000Z
DTEND:20240721T003000Z
END:VEVENT
END:VCALENDAR
