BEGIN:VCALENDAR
VERSION:2.0
PRODID:SchoolNow
CALSCALE:GREGORIAN
BEGIN:VEVENT
UID:17745d92-3ee1-11ef-822d-0ed0a03c07c9
DTSTAMP:20240710T174743Z
SUMMARY:Wall Art Class - July 18th
LOCATION:Activities Center
URL;VALUE=URI:https://www.wildernesslakecdd.org/calendar/6242183/wall-art-c
 lass-july-18th
DTSTART:20240718T220000Z
DTEND:20240719T003000Z
END:VEVENT
END:VCALENDAR
