BEGIN:VCALENDAR
VERSION:2.0
PRODID:SchoolNow
CALSCALE:GREGORIAN
BEGIN:VEVENT
UID:c3e23320-3ee0-11ef-9613-0a58a9feac02
DTSTAMP:20240710T174645Z
SUMMARY:Wood Crafting Class - (Wood Tags) - July 12th
LOCATION:Activities Center
URL;VALUE=URI:https://www.wildernesslakecdd.org/calendar/6242182/wood-craft
 ing-class-wood-tags-july-12th
DTSTART:20240712T220000Z
DTEND:20240713T010000Z
END:VEVENT
END:VCALENDAR
