BEGIN:VCALENDAR
VERSION:2.0
PRODID:SchoolNow
CALSCALE:GREGORIAN
BEGIN:VEVENT
UID:8a5a9516-3ee0-11ef-b8ba-0a58a9feac02
DTSTAMP:20240710T172001Z
SUMMARY:Hallmark Movie Night - July 13th
LOCATION:Lodge - Theatre
URL;VALUE=URI:https://www.wildernesslakecdd.org/calendar/6242181/hallmark-m
 ovie-night
DTSTART:20240714T000000Z
DTEND:20240714T020000Z
END:VEVENT
END:VCALENDAR
