BEGIN:VCALENDAR
VERSION:2.0
PRODID:SchoolNow
CALSCALE:GREGORIAN
BEGIN:VEVENT
UID:1079291e-2811-11ef-8830-0a58a9feac02
DTSTAMP:20240611T164013Z
SUMMARY:S'mores Night - June 22rd
URL;VALUE=URI:https://www.wildernesslakecdd.org/calendar/6108161/smores-nig
 ht
DTSTART:20240623T230000Z
DTEND:20240624T000000Z
END:VEVENT
END:VCALENDAR
