BEGIN:VCALENDAR
VERSION:2.0
PRODID:SchoolNow
CALSCALE:GREGORIAN
BEGIN:VEVENT
UID:47eff7d6-1490-11ef-97d6-0257003d8c2f
DTSTAMP:20240607T232344Z
SUMMARY:Ping Pong Tournament - Jun 22nd
URL;VALUE=URI:https://www.wildernesslakecdd.org/calendar/5987859/ping-pong-
 tournament-jun-22nd
DTSTART:20240622T150000Z
DTEND:20240622T160000Z
END:VEVENT
END:VCALENDAR
