BEGIN:VCALENDAR
VERSION:2.0
PRODID:SchoolNow
CALSCALE:GREGORIAN
BEGIN:VEVENT
UID:085e987a-1490-11ef-a31d-0a58a9feac02
DTSTAMP:20240517T205712Z
SUMMARY:Ladies Night - Jun 21st
URL;VALUE=URI:https://www.wildernesslakecdd.org/calendar/5987858/ladies-nig
 ht-jun-21st
DTSTART:20240621T220000Z
DTEND:20240621T230000Z
END:VEVENT
END:VCALENDAR
