BEGIN:VCALENDAR
VERSION:2.0
PRODID:SchoolNow
CALSCALE:GREGORIAN
BEGIN:VEVENT
UID:e609e34c-148f-11ef-a009-0a58a9feac02
DTSTAMP:20240611T163922Z
SUMMARY:Snow Cones - Jun 21st
URL;VALUE=URI:https://www.wildernesslakecdd.org/calendar/5987857/snow-cones
 -jun-21st
DTSTART:20240621T190000Z
DTEND:20240621T200000Z
END:VEVENT
END:VCALENDAR
