BEGIN:VCALENDAR
VERSION:2.0
PRODID:SchoolNow
CALSCALE:GREGORIAN
BEGIN:VEVENT
UID:0ae4e212-148a-11ef-8d20-0affc20429c9
DTSTAMP:20240517T205939Z
SUMMARY:HOA Meeting - Jun 18th
URL;VALUE=URI:https://www.wildernesslakecdd.org/calendar/5987856/hoa-meetin
 g-jun-8th
DTSTART:20240618T223000Z
DTEND:20240618T233000Z
END:VEVENT
END:VCALENDAR
