BEGIN:VCALENDAR
VERSION:2.0
PRODID:SchoolNow
CALSCALE:GREGORIAN
BEGIN:VEVENT
UID:66577762-1486-11ef-820a-0a58a9feac02
DTSTAMP:20240517T194814Z
SUMMARY:Story Time - Jun 3rd
URL;VALUE=URI:https://www.wildernesslakecdd.org/calendar/5987848/story-time
 -jun-3rd
DTSTART:20240603T140000Z
DTEND:20240603T150000Z
END:VEVENT
END:VCALENDAR
