BEGIN:VCALENDAR
VERSION:2.0
PRODID:SchoolNow
CALSCALE:GREGORIAN
BEGIN:VEVENT
UID:247e07b8-1475-11ef-92f8-0a58a9feac02
DTSTAMP:20240517T174442Z
SUMMARY:Story Time - Jun 10th
URL;VALUE=URI:https://www.wildernesslakecdd.org/calendar/5987836/story-time
 -jun-10th
DTSTART:20240610T140000Z
DTEND:20240610T150000Z
END:VEVENT
END:VCALENDAR
