BEGIN:VCALENDAR
VERSION:2.0
PRODID:SchoolNow
CALSCALE:GREGORIAN
BEGIN:VEVENT
UID:11f9acfe-1471-11ef-b42c-0a58a9feac02
DTSTAMP:20240517T171533Z
SUMMARY:Story Time - Jun 17th
URL;VALUE=URI:https://www.wildernesslakecdd.org/calendar/5987832/story-time
 -jun-17th
DTSTART:20240617T140000Z
DTEND:20240617T150000Z
END:VEVENT
END:VCALENDAR
