BEGIN:VCALENDAR
VERSION:2.0
PRODID:SchoolNow
CALSCALE:GREGORIAN
BEGIN:VEVENT
UID:bbe343d4-13c1-11ef-a2c8-0afff1c1b889
DTSTAMP:20240517T173956Z
SUMMARY:Yoga - May 23rd
URL;VALUE=URI:https://www.wildernesslakecdd.org/calendar/5981871/yoga-clone
DTSTART:20240523T123000Z
DTEND:20240523T145500Z
END:VEVENT
END:VCALENDAR
