BEGIN:VCALENDAR
VERSION:2.0
PRODID:SchoolNow
CALSCALE:GREGORIAN
BEGIN:VEVENT
UID:cbc4ba46-13bf-11ef-8fec-0a58a9feac02
DTSTAMP:20240517T173922Z
SUMMARY:Yoga - May 21st
URL;VALUE=URI:https://www.wildernesslakecdd.org/calendar/5981870/yoga
DTSTART:20240521T123000Z
DTEND:20240521T145500Z
END:VEVENT
END:VCALENDAR
