BEGIN:VCALENDAR
VERSION:2.0
PRODID:SchoolNow
CALSCALE:GREGORIAN
BEGIN:VEVENT
UID:4602d8e4-13be-11ef-b0a2-0a58a9feac02
DTSTAMP:20240517T173854Z
SUMMARY:Watermelon By The Pool - Jun 1st
URL;VALUE=URI:https://www.wildernesslakecdd.org/calendar/5981865/watermelon
 -by-the-pool
DTSTART:20240601T190000Z
DTEND:20240601T200000Z
ATTACH;FILENAME=Flyer 6-1.png;FMTTYPE=image/png:https://campussuite-storage
 .s3.amazonaws.com/prod/1558874/21caec5e-ea98-11e9-8581-0a20d2c7fac4/278873
 9/34682472-13be-11ef-b4d9-0a58a9feac02/file/Flyer 6-1.png
END:VEVENT
END:VCALENDAR
