BEGIN:VCALENDAR
VERSION:2.0
PRODID:SchoolNow
CALSCALE:GREGORIAN
BEGIN:VEVENT
UID:e37eb8c8-13b8-11ef-b608-0a58a9feac02
DTSTAMP:20240516T191708Z
SUMMARY:ARC Meeting - Zoom Meeting
URL;VALUE=URI:https://www.wildernesslakecdd.org/calendar/5981856/arc-meetin
 g-zoom-meeting
DTSTART:20240530T223000Z
DTEND:20240530T233000Z
END:VEVENT
END:VCALENDAR
