BEGIN:VCALENDAR
VERSION:2.0
PRODID:SchoolNow
CALSCALE:GREGORIAN
BEGIN:VEVENT
UID:143c4428-0ccd-11ef-95bb-0a58a9feac02
DTSTAMP:20240507T235401Z
SUMMARY:ARC Meeting - Jun 24th
URL;VALUE=URI:https://www.wildernesslakecdd.org/calendar/5932048/arc-meetin
 g-jun-24th
DTSTART:20240624T223000Z
DTEND:20240624T233000Z
END:VEVENT
END:VCALENDAR
