BEGIN:VCALENDAR
VERSION:2.0
PRODID:SchoolNow
CALSCALE:GREGORIAN
BEGIN:VEVENT
UID:e08641f6-0ccc-11ef-b5cc-0a58a9feac02
DTSTAMP:20240507T235235Z
SUMMARY:ARC Meeting - June 10th
URL;VALUE=URI:https://www.wildernesslakecdd.org/calendar/5932047/arc-meetin
 g-june-10th
DTSTART:20240610T223000Z
DTEND:20240610T233000Z
END:VEVENT
END:VCALENDAR
