BEGIN:VCALENDAR
VERSION:2.0
PRODID:SchoolNow
CALSCALE:GREGORIAN
BEGIN:VEVENT
UID:a3b74004-0ccc-11ef-9fd4-0a58a9feac02
DTSTAMP:20240507T235053Z
SUMMARY:ARC Meeting - May 13th
URL;VALUE=URI:https://www.wildernesslakecdd.org/calendar/5932046/arc-meetin
 g-may-13th
DTSTART:20240513T223000Z
DTEND:20240513T233000Z
END:VEVENT
END:VCALENDAR
