BEGIN:VCALENDAR
VERSION:2.0
PRODID:SchoolNow
CALSCALE:GREGORIAN
BEGIN:VEVENT
UID:2d6cbf4e-0c9c-11ef-8278-0a58a9feac02
DTSTAMP:20240507T180846Z
SUMMARY:Story Time - May 27th- Canceled
URL;VALUE=URI:https://www.wildernesslakecdd.org/calendar/5929802/story-time
 -may-27th-canceled
DTSTART:20240527T140000Z
DTEND:20240527T150000Z
END:VEVENT
END:VCALENDAR
