BEGIN:VCALENDAR
VERSION:2.0
PRODID:SchoolNow
CALSCALE:GREGORIAN
BEGIN:VEVENT
UID:e6a3d84a-0c9b-11ef-a932-0e6575bd53cf
DTSTAMP:20240516T204136Z
SUMMARY:Family Movie Night - May 31st
URL;VALUE=URI:https://www.wildernesslakecdd.org/calendar/5929800/family-mov
 ie-night-may-31st
DTSTART:20240531T230000Z
DTEND:20240601T000000Z
ATTACH;FILENAME=Encanto Family Movie Night.jpg;FMTTYPE=image/jpeg:https://c
 ampussuite-storage.s3.amazonaws.com/prod/1558874/21caec5e-ea98-11e9-8581-0
 a20d2c7fac4/2788881/a4a85ed6-13c4-11ef-8a57-0a58a9feac02/file/Encanto Fami
 ly Movie Night.jpg
END:VEVENT
END:VCALENDAR
