BEGIN:VCALENDAR
VERSION:2.0
PRODID:SchoolNow
CALSCALE:GREGORIAN
BEGIN:VEVENT
UID:147a5506-0c9b-11ef-8580-0affe2ec6019
DTSTAMP:20240507T175607Z
SUMMARY:Hoops & Scoops - May 26th
URL;VALUE=URI:https://www.wildernesslakecdd.org/calendar/5929794/hoops-scoo
 ps-may-26th
DTSTART:20240526T180000Z
DTEND:20240526T190000Z
END:VEVENT
END:VCALENDAR
