BEGIN:VCALENDAR
VERSION:2.0
PRODID:SchoolNow
CALSCALE:GREGORIAN
BEGIN:VEVENT
UID:d71a081e-0c9a-11ef-9113-02ec4c83ddbd
DTSTAMP:20240515T222112Z
SUMMARY:HOA Meeting - May 28th
URL;VALUE=URI:https://www.wildernesslakecdd.org/calendar/5929793/hoa-meetin
 g-may-21st
DTSTART:20240528T223000Z
DTEND:20240529T003000Z
END:VEVENT
END:VCALENDAR
