BEGIN:VCALENDAR
VERSION:2.0
PRODID:SchoolNow
CALSCALE:GREGORIAN
BEGIN:VEVENT
UID:b1b04c78-0c9a-11ef-b783-0e2d74697af7
DTSTAMP:20240507T175321Z
SUMMARY:Smores Night - May 19th
URL;VALUE=URI:https://www.wildernesslakecdd.org/calendar/5929792/smores-nig
 ht-may-19th
DTSTART:20240518T230000Z
DTEND:20240519T000000Z
END:VEVENT
END:VCALENDAR
