BEGIN:VCALENDAR
VERSION:2.0
PRODID:SchoolNow
CALSCALE:GREGORIAN
BEGIN:VEVENT
UID:5fac1fce-0c9a-11ef-a8b4-0e7573badf4f
DTSTAMP:20240507T175143Z
SUMMARY:Coffee & Donuts for Moms - May 16th
URL;VALUE=URI:https://www.wildernesslakecdd.org/calendar/5929791/coffee-don
 uts-for-moms
DTSTART:20240516T140000Z
DTEND:20240516T150000Z
END:VEVENT
END:VCALENDAR
