BEGIN:VCALENDAR
VERSION:2.0
PRODID:SchoolNow
CALSCALE:GREGORIAN
BEGIN:VEVENT
UID:3b920d34-08a7-11ef-84f7-0a58a9feac02
DTSTAMP:20240516T192220Z
SUMMARY:CDD Board Cont. Meeting - May 23
LOCATION:The Preserve at Wilderness Lake Lodge\, located at 21320 Wildernes
 s Lake Boulevard\, Land O' Lakes\, FL 34637.
URL;VALUE=URI:https://www.wildernesslakecdd.org/calendar/5900765/cdd-board-
 cont-meeting-may-23
DTSTART:20240523T133000Z
DTEND:20240523T183000Z
ATTACH;FILENAME=2024-05-23 Agenda Package.pdf;FMTTYPE=application/pdf:https
 ://campussuite-storage.s3.amazonaws.com/prod/1558874/21caec5e-ea98-11e9-85
 81-0a20d2c7fac4/2788712/8d5d0494-13b9-11ef-94ee-0a58a9feac02/file/2024-05-
 23 Agenda Package.pdf
END:VEVENT
END:VCALENDAR
