BEGIN:VCALENDAR
VERSION:2.0
PRODID:SchoolNow
CALSCALE:GREGORIAN
BEGIN:VEVENT
UID:f0f5fa76-fe8b-11ee-87b7-02a1b0601aa3
DTSTAMP:20240419T203229Z
SUMMARY:Story Time - May 20th
URL;VALUE=URI:https://www.wildernesslakecdd.org/calendar/5818910/story-time
 -may-20th
DTSTART:20240520T140000Z
DTEND:20240520T150000Z
END:VEVENT
END:VCALENDAR
